BEGIN:VCALENDAR
VERSION:2.0
PRODID:-//Discover Wolf Creek Resort, Eden UT - Wolf Creek Resort, Eden UT - ECPv6.15.20//NONSGML v1.0//EN
CALSCALE:GREGORIAN
METHOD:PUBLISH
X-WR-CALNAME:Discover Wolf Creek Resort, Eden UT - Wolf Creek Resort, Eden UT
X-ORIGINAL-URL:https://wolfcreekresort.com
X-WR-CALDESC:Events for Discover Wolf Creek Resort, Eden UT - Wolf Creek Resort, Eden UT
REFRESH-INTERVAL;VALUE=DURATION:PT1H
X-Robots-Tag:noindex
X-PUBLISHED-TTL:PT1H
BEGIN:VTIMEZONE
TZID:America/Denver
BEGIN:DAYLIGHT
TZOFFSETFROM:-0700
TZOFFSETTO:-0600
TZNAME:MDT
DTSTART:20240310T090000
END:DAYLIGHT
BEGIN:STANDARD
TZOFFSETFROM:-0600
TZOFFSETTO:-0700
TZNAME:MST
DTSTART:20241103T080000
END:STANDARD
BEGIN:DAYLIGHT
TZOFFSETFROM:-0700
TZOFFSETTO:-0600
TZNAME:MDT
DTSTART:20250309T090000
END:DAYLIGHT
BEGIN:STANDARD
TZOFFSETFROM:-0600
TZOFFSETTO:-0700
TZNAME:MST
DTSTART:20251102T080000
END:STANDARD
BEGIN:DAYLIGHT
TZOFFSETFROM:-0700
TZOFFSETTO:-0600
TZNAME:MDT
DTSTART:20260308T090000
END:DAYLIGHT
BEGIN:STANDARD
TZOFFSETFROM:-0600
TZOFFSETTO:-0700
TZNAME:MST
DTSTART:20261101T080000
END:STANDARD
END:VTIMEZONE
BEGIN:VEVENT
DTSTART;VALUE=DATE:20250915
DTEND;VALUE=DATE:20250916
DTSTAMP:20260423T130309
CREATED:20250220T203106Z
LAST-MODIFIED:20250220T203106Z
UID:10001739-1757923200-1757955600@wolfcreekresort.com
SUMMARY:Weber State Golf Tournament
DESCRIPTION:
URL:https://wolfcreekresort.com/main-events/weber-state-golf-tournament/2025-09-15/
LOCATION:Wolf Creek Golf Course\, 3873 N Wolf Creek Dr\, Eden\, UT\, 84310
CATEGORIES:community,main
END:VEVENT
BEGIN:VEVENT
DTSTART;VALUE=DATE:20250914
DTEND;VALUE=DATE:20250915
DTSTAMP:20260423T130309
CREATED:20250220T203106Z
LAST-MODIFIED:20250220T203106Z
UID:10001738-1757808000-1757894399@wolfcreekresort.com
SUMMARY:Weber State Golf Tournament
DESCRIPTION:
URL:https://wolfcreekresort.com/main-events/weber-state-golf-tournament/2025-09-14/
LOCATION:Wolf Creek Golf Course\, 3873 N Wolf Creek Dr\, Eden\, UT\, 84310
CATEGORIES:community,main
END:VEVENT
BEGIN:VEVENT
DTSTART;VALUE=DATE:20250905
DTEND;VALUE=DATE:20250906
DTSTAMP:20260423T130309
CREATED:20250220T202948Z
LAST-MODIFIED:20250220T202948Z
UID:10001737-1757030400-1757116799@wolfcreekresort.com
SUMMARY:Ogden Rescue Mission Golf Tournament
DESCRIPTION:
URL:https://wolfcreekresort.com/main-events/ogden-rescue-mission-golf-tournament/
LOCATION:Wolf Creek Golf Course\, 3873 N Wolf Creek Dr\, Eden\, UT\, 84310
CATEGORIES:community,main
END:VEVENT
BEGIN:VEVENT
DTSTART;VALUE=DATE:20250830
DTEND;VALUE=DATE:20250831
DTSTAMP:20260423T130309
CREATED:20250220T202906Z
LAST-MODIFIED:20250220T202906Z
UID:10001736-1756512000-1756598399@wolfcreekresort.com
SUMMARY:Nichols & Peterson Wedding
DESCRIPTION:
URL:https://wolfcreekresort.com/main-events/nichols-peterson-wedding/
LOCATION:Wolf Creek Clubhouse\, 3873 N Wolf Creek Dr\, Eden\, UT\, 84310
CATEGORIES:main
END:VEVENT
BEGIN:VEVENT
DTSTART;VALUE=DATE:20250822
DTEND;VALUE=DATE:20250823
DTSTAMP:20260423T130309
CREATED:20250220T202826Z
LAST-MODIFIED:20250220T202826Z
UID:10001735-1755820800-1755907199@wolfcreekresort.com
SUMMARY:Wadman Golf Tournament
DESCRIPTION:
URL:https://wolfcreekresort.com/main-events/wadman-golf-tournament/
LOCATION:Wolf Creek Golf Course\, 3873 N Wolf Creek Dr\, Eden\, UT\, 84310
CATEGORIES:community,main
END:VEVENT
BEGIN:VEVENT
DTSTART;VALUE=DATE:20250810
DTEND;VALUE=DATE:20250811
DTSTAMP:20260423T130309
CREATED:20250220T202757Z
LAST-MODIFIED:20250220T202757Z
UID:10001734-1754784000-1754870399@wolfcreekresort.com
SUMMARY:Knights of Columbus Golf Tournament
DESCRIPTION:
URL:https://wolfcreekresort.com/main-events/knights-of-columbus-golf-tournament/
LOCATION:Wolf Creek Golf Course\, 3873 N Wolf Creek Dr\, Eden\, UT\, 84310
CATEGORIES:community,main
END:VEVENT
BEGIN:VEVENT
DTSTART;VALUE=DATE:20250809
DTEND;VALUE=DATE:20250810
DTSTAMP:20260423T130309
CREATED:20250220T202721Z
LAST-MODIFIED:20250220T202721Z
UID:10001733-1754697600-1754783999@wolfcreekresort.com
SUMMARY:Williams & Worrell Wedding
DESCRIPTION:
URL:https://wolfcreekresort.com/main-events/williams-worrell-wedding/
LOCATION:Wolf Creek Clubhouse\, 3873 N Wolf Creek Dr\, Eden\, UT\, 84310
CATEGORIES:main
END:VEVENT
BEGIN:VEVENT
DTSTART;VALUE=DATE:20250808
DTEND;VALUE=DATE:20250809
DTSTAMP:20260423T130309
CREATED:20250220T202607Z
LAST-MODIFIED:20250220T202607Z
UID:10001732-1754611200-1754697599@wolfcreekresort.com
SUMMARY:NUHR Golf Tournament
DESCRIPTION:
URL:https://wolfcreekresort.com/main-events/nuhr-golf-tournament/
LOCATION:Wolf Creek Golf Course\, 3873 N Wolf Creek Dr\, Eden\, UT\, 84310
CATEGORIES:community,main
END:VEVENT
BEGIN:VEVENT
DTSTART;VALUE=DATE:20250807
DTEND;VALUE=DATE:20250808
DTSTAMP:20260423T130309
CREATED:20250220T202537Z
LAST-MODIFIED:20250220T202537Z
UID:10001731-1754524800-1754611199@wolfcreekresort.com
SUMMARY:YCC Golf Tournament
DESCRIPTION:
URL:https://wolfcreekresort.com/main-events/ycc-golf-tournament/
LOCATION:Wolf Creek Golf Course\, 3873 N Wolf Creek Dr\, Eden\, UT\, 84310
CATEGORIES:community,main
END:VEVENT
BEGIN:VEVENT
DTSTART;VALUE=DATE:20250719
DTEND;VALUE=DATE:20250720
DTSTAMP:20260423T130309
CREATED:20250220T202505Z
LAST-MODIFIED:20250220T202505Z
UID:10001730-1752883200-1752969599@wolfcreekresort.com
SUMMARY:Music on the Patio - Junction City Blues Band
DESCRIPTION:
URL:https://wolfcreekresort.com/main-events/music-on-the-patio-junction-city-blues-band/
LOCATION:Wolf Creek Resort Patio\, 3873 N Wolf Creek Dr\, Eden\, UT\, 84310
CATEGORIES:community,main
END:VEVENT
BEGIN:VEVENT
DTSTART;VALUE=DATE:20250711
DTEND;VALUE=DATE:20250712
DTSTAMP:20260423T130309
CREATED:20250220T202410Z
LAST-MODIFIED:20250220T202410Z
UID:10001729-1752192000-1752278399@wolfcreekresort.com
SUMMARY:Ellingson & Roundy Wedding
DESCRIPTION:
URL:https://wolfcreekresort.com/main-events/ellingson-roundy-wedding/
LOCATION:Wolf Creek Clubhouse\, 3873 N Wolf Creek Dr\, Eden\, UT\, 84310
CATEGORIES:main
END:VEVENT
BEGIN:VEVENT
DTSTART;VALUE=DATE:20250630
DTEND;VALUE=DATE:20250701
DTSTAMP:20260423T130309
CREATED:20250220T202307Z
LAST-MODIFIED:20250220T202307Z
UID:10001728-1751241600-1751327999@wolfcreekresort.com
SUMMARY:Prevent Child Abuse Golf Tournament
DESCRIPTION:
URL:https://wolfcreekresort.com/main-events/prevent-child-abuse-golf-tournament/
LOCATION:Wolf Creek Golf Course\, 3873 N Wolf Creek Dr\, Eden\, UT\, 84310
CATEGORIES:community,main
END:VEVENT
BEGIN:VEVENT
DTSTART;VALUE=DATE:20250626
DTEND;VALUE=DATE:20250627
DTSTAMP:20260423T130309
CREATED:20250220T202229Z
LAST-MODIFIED:20250220T202229Z
UID:10001727-1750896000-1750982399@wolfcreekresort.com
SUMMARY:Weber Human Services Golf Tournament
DESCRIPTION:
URL:https://wolfcreekresort.com/main-events/weber-human-services-golf-tournament/
LOCATION:Wolf Creek Golf Course\, 3873 N Wolf Creek Dr\, Eden\, UT\, 84310
CATEGORIES:community,main
END:VEVENT
BEGIN:VEVENT
DTSTART;VALUE=DATE:20250614
DTEND;VALUE=DATE:20250615
DTSTAMP:20260423T130309
CREATED:20250220T202024Z
LAST-MODIFIED:20250220T202024Z
UID:10001726-1749859200-1749945599@wolfcreekresort.com
SUMMARY:Flint & Mickles Wedding
DESCRIPTION:
URL:https://wolfcreekresort.com/main-events/flint-mickles-wedding/
LOCATION:Wolf Creek Clubhouse\, 3873 N Wolf Creek Dr\, Eden\, UT\, 84310
CATEGORIES:main
END:VEVENT
BEGIN:VEVENT
DTSTART;VALUE=DATE:20250613
DTEND;VALUE=DATE:20250614
DTSTAMP:20260423T130309
CREATED:20250220T201947Z
LAST-MODIFIED:20250220T201947Z
UID:10001725-1749772800-1749859199@wolfcreekresort.com
SUMMARY:Construction Angels Golf Tournament
DESCRIPTION:
URL:https://wolfcreekresort.com/main-events/construction-angels-golf-tournament/
LOCATION:Wolf Creek Golf Course\, 3873 N Wolf Creek Dr\, Eden\, UT\, 84310
CATEGORIES:community,main
END:VEVENT
BEGIN:VEVENT
DTSTART;VALUE=DATE:20250612
DTEND;VALUE=DATE:20250613
DTSTAMP:20260423T130309
CREATED:20250220T201855Z
LAST-MODIFIED:20250220T201855Z
UID:10001724-1749686400-1749772799@wolfcreekresort.com
SUMMARY:CFOV Music on the Patio
DESCRIPTION:
URL:https://wolfcreekresort.com/main-events/cfov-music-on-the-patio/
LOCATION:Wolf Creek Resort Patio\, 3873 N Wolf Creek Dr\, Eden\, UT\, 84310
CATEGORIES:community,main
END:VEVENT
BEGIN:VEVENT
DTSTART;TZID=America/Denver:20250607T120000
DTEND;TZID=America/Denver:20250607T130000
DTSTAMP:20260423T130309
CREATED:20250507T221304Z
LAST-MODIFIED:20250507T221304Z
UID:10001741-1749297600-1749301200@wolfcreekresort.com
SUMMARY:Free Clinic at The Club - Pickleball Basics
DESCRIPTION:Another FREE Clinic at The Club – Everyone is invited! Meet at Wolf Creek Resort’s pickleball courts in front of The Club for Pickleball Basics with Joe Wadsworth from 12-1pm.
URL:https://wolfcreekresort.com/main-events/free-clinic-at-the-club-pickleball-basics/
LOCATION:The Club\, 3844 N. Wolf Creek Dr.\, Eden\, UT\, 84310\, United States
CATEGORIES:community,main,Member
END:VEVENT
BEGIN:VEVENT
DTSTART;VALUE=DATE:20250607
DTEND;VALUE=DATE:20250608
DTSTAMP:20260423T130309
CREATED:20250220T195813Z
LAST-MODIFIED:20250220T195813Z
UID:10001723-1749254400-1749340799@wolfcreekresort.com
SUMMARY:Marbach Celebration
DESCRIPTION:
URL:https://wolfcreekresort.com/main-events/marbach-celebration/
LOCATION:Wolf Creek Clubhouse\, 3873 N Wolf Creek Dr\, Eden\, UT\, 84310
CATEGORIES:main
END:VEVENT
BEGIN:VEVENT
DTSTART;VALUE=DATE:20250606
DTEND;VALUE=DATE:20250607
DTSTAMP:20260423T130309
CREATED:20250220T195700Z
LAST-MODIFIED:20250220T195840Z
UID:10001722-1749168000-1749254399@wolfcreekresort.com
SUMMARY:Taylor & Jensen Wedding
DESCRIPTION:
URL:https://wolfcreekresort.com/main-events/taylor-jensen-wedding/
LOCATION:Wolf Creek Clubhouse\, 3873 N Wolf Creek Dr\, Eden\, UT\, 84310
CATEGORIES:main
END:VEVENT
BEGIN:VEVENT
DTSTART;VALUE=DATE:20250605
DTEND;VALUE=DATE:20250606
DTSTAMP:20260423T130309
CREATED:20250220T195524Z
LAST-MODIFIED:20250220T195524Z
UID:10001721-1749081600-1749167999@wolfcreekresort.com
SUMMARY:Ogden School Foundation Golf Tournament
DESCRIPTION:
URL:https://wolfcreekresort.com/main-events/ogden-school-foundation-golf-tournament/
LOCATION:Wolf Creek Golf Course\, 3873 N Wolf Creek Dr\, Eden\, UT\, 84310
CATEGORIES:community,main
END:VEVENT
BEGIN:VEVENT
DTSTART;VALUE=DATE:20250531
DTEND;VALUE=DATE:20250601
DTSTAMP:20260423T130309
CREATED:20250220T195436Z
LAST-MODIFIED:20250220T195904Z
UID:10001720-1748649600-1748735999@wolfcreekresort.com
SUMMARY:Dwyer & Thompson Wedding
DESCRIPTION:
URL:https://wolfcreekresort.com/main-events/dwyer-thompson-wedding/
LOCATION:Wolf Creek Clubhouse\, 3873 N Wolf Creek Dr\, Eden\, UT\, 84310
CATEGORIES:main
END:VEVENT
BEGIN:VEVENT
DTSTART;VALUE=DATE:20250530
DTEND;VALUE=DATE:20250531
DTSTAMP:20260423T130309
CREATED:20250220T195342Z
LAST-MODIFIED:20250220T195555Z
UID:10001719-1748563200-1748649599@wolfcreekresort.com
SUMMARY:Round of Honor Golf Tournament
DESCRIPTION:
URL:https://wolfcreekresort.com/main-events/round-of-honor-golf-tournament/
LOCATION:Wolf Creek Golf Course\, 3873 N Wolf Creek Dr\, Eden\, UT\, 84310
CATEGORIES:community,main
END:VEVENT
BEGIN:VEVENT
DTSTART;VALUE=DATE:20250419
DTEND;VALUE=DATE:20250420
DTSTAMP:20260423T130309
CREATED:20250220T195247Z
LAST-MODIFIED:20250220T195247Z
UID:10001718-1745020800-1745107199@wolfcreekresort.com
SUMMARY:Easter Celebration
DESCRIPTION:
URL:https://wolfcreekresort.com/main-events/easter-celebration/
LOCATION:Wolf Creek Clubhouse\, 3873 N Wolf Creek Dr\, Eden\, UT\, 84310
CATEGORIES:community,main
END:VEVENT
BEGIN:VEVENT
DTSTART;TZID=America/Denver:20250417T173000
DTEND;TZID=America/Denver:20250417T183000
DTSTAMP:20260423T130309
CREATED:20250404T192450Z
LAST-MODIFIED:20250404T192450Z
UID:10001740-1744911000-1744914600@wolfcreekresort.com
SUMMARY:Ladies League Social
DESCRIPTION:
URL:https://wolfcreekresort.com/main-events/ladies-league-social/
LOCATION:Members Lounge\, 3784 Wolf Creek Drive\, Eden\, UT\, 84310\, United States
CATEGORIES:community,main,Member
END:VEVENT
BEGIN:VEVENT
DTSTART;VALUE=DATE:20250413
DTEND;VALUE=DATE:20250414
DTSTAMP:20260423T130309
CREATED:20250220T195205Z
LAST-MODIFIED:20250220T195205Z
UID:10001717-1744502400-1744588799@wolfcreekresort.com
SUMMARY:Master's Watch Party
DESCRIPTION:
URL:https://wolfcreekresort.com/main-events/masters-watch-party/
LOCATION:Wolf Creek Clubhouse\, 3873 N Wolf Creek Dr\, Eden\, UT\, 84310
CATEGORIES:community,main
END:VEVENT
END:VCALENDAR